BEGIN:VCALENDAR
VERSION:2.0
PRODID:icalendar-ruby
CALSCALE:GREGORIAN
METHOD:PUBLISH
BEGIN:VEVENT
DTSTAMP:20260421T212301Z
UID:5-393056@springfamilynight.com
DTSTART:20261025T170000Z
DTEND:20261025T180000Z
CLASS:PUBLIC
CREATED:20260421T124550
DESCRIPTION:Sunday Worship
LAST-MODIFIED:20260421T124550
LOCATION:
SUMMARY:Sunday Worship
URL;VALUE=URI:https://www.springfamilynight.com/events/sunday-worship/2026-
 10-25
END:VEVENT
END:VCALENDAR
