BEGIN:VCALENDAR
VERSION:2.0
PRODID:icalendar-ruby
CALSCALE:GREGORIAN
METHOD:PUBLISH
BEGIN:VEVENT
DTSTAMP:20260421T181651Z
UID:5-392793@springfamilynight.com
DTSTART:20261011T170000Z
DTEND:20261011T180000Z
CLASS:PUBLIC
CREATED:20260421T100927
DESCRIPTION:Sunday Worship
LAST-MODIFIED:20260421T100927
LOCATION:
SUMMARY:Sunday Worship
URL;VALUE=URI:https://www.springfamilynight.com/events/sunday-worship/2026-
 10-11
END:VEVENT
END:VCALENDAR
