BEGIN:VCALENDAR
VERSION:2.0
PRODID:icalendar-ruby
CALSCALE:GREGORIAN
METHOD:PUBLISH
BEGIN:VEVENT
DTSTAMP:20260421T142453Z
UID:5-392269@springfamilynight.com
DTSTART:20260927T170000Z
DTEND:20260927T180000Z
CLASS:PUBLIC
CREATED:20260421T045423
DESCRIPTION:Sunday Worship
LAST-MODIFIED:20260421T045423
LOCATION:
SUMMARY:Sunday Worship
URL;VALUE=URI:https://www.springfamilynight.com/events/sunday-worship/2026-
 09-27
END:VEVENT
END:VCALENDAR
