BEGIN:VCALENDAR
VERSION:2.0
PRODID:icalendar-ruby
CALSCALE:GREGORIAN
METHOD:PUBLISH
BEGIN:VEVENT
DTSTAMP:20260421T080616Z
UID:5-392004@springfamilynight.com
DTSTART:20260830T170000Z
DTEND:20260830T180000Z
CLASS:PUBLIC
CREATED:20260420T174747
DESCRIPTION:Sunday Worship
LAST-MODIFIED:20260420T174747
LOCATION:
SUMMARY:Sunday Worship
URL;VALUE=URI:https://www.springfamilynight.com/events/sunday-worship/2026-
 08-30
END:VEVENT
END:VCALENDAR
